BEGIN:VCALENDAR
VERSION:2.0
PRODID:-//Espaces Vanel - ECPv6.15.17//NONSGML v1.0//EN
CALSCALE:GREGORIAN
METHOD:PUBLISH
X-ORIGINAL-URL:https://espacesvanel.toulousecongres.com
X-WR-CALDESC:Évènements pour Espaces Vanel
REFRESH-INTERVAL;VALUE=DURATION:PT1H
X-Robots-Tag:noindex
X-PUBLISHED-TTL:PT1H
BEGIN:VTIMEZONE
TZID:Europe/Paris
BEGIN:DAYLIGHT
TZOFFSETFROM:+0100
TZOFFSETTO:+0200
TZNAME:CEST
DTSTART:20250330T010000
END:DAYLIGHT
BEGIN:STANDARD
TZOFFSETFROM:+0200
TZOFFSETTO:+0100
TZNAME:CET
DTSTART:20251026T010000
END:STANDARD
BEGIN:DAYLIGHT
TZOFFSETFROM:+0100
TZOFFSETTO:+0200
TZNAME:CEST
DTSTART:20260329T010000
END:DAYLIGHT
BEGIN:STANDARD
TZOFFSETFROM:+0200
TZOFFSETTO:+0100
TZNAME:CET
DTSTART:20261025T010000
END:STANDARD
BEGIN:DAYLIGHT
TZOFFSETFROM:+0100
TZOFFSETTO:+0200
TZNAME:CEST
DTSTART:20270328T010000
END:DAYLIGHT
BEGIN:STANDARD
TZOFFSETFROM:+0200
TZOFFSETTO:+0100
TZNAME:CET
DTSTART:20271031T010000
END:STANDARD
END:VTIMEZONE
BEGIN:VEVENT
DTSTART;TZID=Europe/Paris:20260319T080000
DTEND;TZID=Europe/Paris:20260320T170000
DTSTAMP:20260419T233031
CREATED:20260112T125341Z
LAST-MODIFIED:20260126T115151Z
UID:805-1773907200-1774026000@espacesvanel.toulousecongres.com
SUMMARY:25 ans Master Ingénierie du patrimoine
DESCRIPTION:
URL:https://espacesvanel.toulousecongres.com/evenement/25-ans-master-ingenierie-du-patrimoine/
CATEGORIES:Événement d'entreprise
ATTACH;FMTTYPE=image/png:https://espacesvanel.toulousecongres.com/wp-content/uploads/sites/2/2023/06/Espaces-Vanel.png
END:VEVENT
END:VCALENDAR